BEGIN:VCALENDAR
VERSION:2.0
PRODID:-//KA-GU-RA - ECPv6.15.20//NONSGML v1.0//EN
CALSCALE:GREGORIAN
METHOD:PUBLISH
X-WR-CALNAME:KA-GU-RA
X-ORIGINAL-URL:https://kagura.merchant-kawabata.com
X-WR-CALDESC:KA-GU-RA のイベント
REFRESH-INTERVAL;VALUE=DURATION:PT1H
X-Robots-Tag:noindex
X-PUBLISHED-TTL:PT1H
BEGIN:VTIMEZONE
TZID:Asia/Tokyo
BEGIN:STANDARD
TZOFFSETFROM:+0900
TZOFFSETTO:+0900
TZNAME:JST
DTSTART:20250101T000000
END:STANDARD
END:VTIMEZONE
BEGIN:VEVENT
DTSTART;VALUE=DATE:20260510
DTEND;VALUE=DATE:20260511
DTSTAMP:20260422T001309
CREATED:20260323T122925Z
LAST-MODIFIED:20260323T122925Z
UID:450-1778371200-1778457599@kagura.merchant-kawabata.com
SUMMARY:母の日
DESCRIPTION:
URL:https://kagura.merchant-kawabata.com/event/%e6%af%8d%e3%81%ae%e6%97%a5/
END:VEVENT
END:VCALENDAR